BEGIN:VCALENDAR
VERSION:2.0
PRODID:-//Langues de Bourgogne - ECPv6.15.20//NONSGML v1.0//EN
CALSCALE:GREGORIAN
METHOD:PUBLISH
X-WR-CALNAME:Langues de Bourgogne
X-ORIGINAL-URL:https://languesdebourgogne.com
X-WR-CALDESC:Évènements pour Langues de Bourgogne
REFRESH-INTERVAL;VALUE=DURATION:PT1H
X-Robots-Tag:noindex
X-PUBLISHED-TTL:PT1H
BEGIN:VTIMEZONE
TZID:Europe/Paris
BEGIN:DAYLIGHT
TZOFFSETFROM:+0100
TZOFFSETTO:+0200
TZNAME:CEST
DTSTART:20250330T010000
END:DAYLIGHT
BEGIN:STANDARD
TZOFFSETFROM:+0200
TZOFFSETTO:+0100
TZNAME:CET
DTSTART:20251026T010000
END:STANDARD
BEGIN:DAYLIGHT
TZOFFSETFROM:+0100
TZOFFSETTO:+0200
TZNAME:CEST
DTSTART:20260329T010000
END:DAYLIGHT
BEGIN:STANDARD
TZOFFSETFROM:+0200
TZOFFSETTO:+0100
TZNAME:CET
DTSTART:20261025T010000
END:STANDARD
BEGIN:DAYLIGHT
TZOFFSETFROM:+0100
TZOFFSETTO:+0200
TZNAME:CEST
DTSTART:20270328T010000
END:DAYLIGHT
BEGIN:STANDARD
TZOFFSETFROM:+0200
TZOFFSETTO:+0100
TZNAME:CET
DTSTART:20271031T010000
END:STANDARD
END:VTIMEZONE
BEGIN:VEVENT
DTSTART;TZID=Europe/Paris:20260422T170000
DTEND;TZID=Europe/Paris:20260422T183000
DTSTAMP:20260424T015310
CREATED:20260129T145931Z
LAST-MODIFIED:20260129T145931Z
UID:7084-1776877200-1776882600@languesdebourgogne.com
SUMMARY:La Couée de la Glaudine à Saint Marcel
DESCRIPTION:salle de l’ancienne poste. \nTous les 15 jours\, le mercredi à 17h à Saint Marcel
URL:https://languesdebourgogne.com/agenda/la-couee-de-la-glaudine-a-saint-marcel-6/
LOCATION:Saint Marcel\, Salle de l'ancienne poste\, Saint Marcel\, 71380\, France
CATEGORIES:Ateliers
ORGANIZER;CN="La Cou%C3%A9e d'la Glaudine":MAILTO:oliviergaudillat@yahoo.fr
END:VEVENT
BEGIN:VEVENT
DTSTART;TZID=Europe/Paris:20260420T200000
DTEND;TZID=Europe/Paris:20260420T220000
DTSTAMP:20260424T015310
CREATED:20260303T140130Z
LAST-MODIFIED:20260303T140622Z
UID:7180-1776715200-1776722400@languesdebourgogne.com
SUMMARY:Racontous\, racontons tous ! - 1ère séance
DESCRIPTION:Soirée de formation à l’expression orale en patois et en français
URL:https://languesdebourgogne.com/agenda/racontous-racontons-nous-1ere-seance/
LOCATION:Jardin de la cure Varennes-le-Grand\, Salle du jardin de la Cure\, Varennes-le-Grand\, 71240\, France
CATEGORIES:Ateliers,Formations
ORGANIZER;CN="Varennes Village Culture et Patrimoine":MAILTO:pplc.leger@orange.fr
END:VEVENT
BEGIN:VEVENT
DTSTART;VALUE=DATE:20260418
DTEND;VALUE=DATE:20260420
DTSTAMP:20260424T015310
CREATED:20251211T115341Z
LAST-MODIFIED:20251211T115341Z
UID:6787-1776470400-1776643199@languesdebourgogne.com
SUMMARY:Exposition sur le sport à Brazey-en-Plaine
DESCRIPTION:au chateau Magnin
URL:https://languesdebourgogne.com/agenda/exposition-sur-le-sport-a-brazey-en-plaine/
LOCATION:Chateau Magnin Brazey-en-Plaine\, Rue du Maréchal de Lattre de Tassigny\, Brazey-en-Plaine\, 21470\, France
CATEGORIES:Exposition
ORGANIZER;CN="Association de recherche historique et arch%C3%A9ologique locale de la r%C3%A9gion de Brazey-en-Plaine (ARHIAL)":MAILTO:arhial.brazey@hotmail.com
END:VEVENT
BEGIN:VEVENT
DTSTART;TZID=Europe/Paris:20260415T140000
DTEND;TZID=Europe/Paris:20260415T170000
DTSTAMP:20260424T015310
CREATED:20251211T115424Z
LAST-MODIFIED:20251211T115424Z
UID:6789-1776261600-1776272400@languesdebourgogne.com
SUMMARY:Atelier de Brazey-en-Plaine
DESCRIPTION:rdv à la mairie
URL:https://languesdebourgogne.com/agenda/atelier-de-brazey-en-plaine-3/
LOCATION:Mairie Brazey-en-Plaine\, Mairie\, Brazey-en-Plaine\, 21470
CATEGORIES:Ateliers
ORGANIZER;CN="Association de recherche historique et arch%C3%A9ologique locale de la r%C3%A9gion de Brazey-en-Plaine (ARHIAL)":MAILTO:arhial.brazey@hotmail.com
END:VEVENT
BEGIN:VEVENT
DTSTART;TZID=Europe/Paris:20260408T180000
DTEND;TZID=Europe/Paris:20260408T200000
DTSTAMP:20260424T015310
CREATED:20260303T112622Z
LAST-MODIFIED:20260303T112622Z
UID:7176-1775671200-1775678400@languesdebourgogne.com
SUMMARY:Causons montcellien !
DESCRIPTION:Tous les deuxièmes mercredis du mois à 18h à la Volière !
URL:https://languesdebourgogne.com/agenda/causons-montcellien-4/
CATEGORIES:Ateliers
ATTACH;FMTTYPE=image/jpeg:https://languesdebourgogne.com/wp-content/uploads/2026/03/affiche.jpg
END:VEVENT
BEGIN:VEVENT
DTSTART;TZID=Europe/Paris:20260408T170000
DTEND;TZID=Europe/Paris:20260408T183000
DTSTAMP:20260424T015310
CREATED:20260129T145730Z
LAST-MODIFIED:20260129T145730Z
UID:7082-1775667600-1775673000@languesdebourgogne.com
SUMMARY:La Couée de la Glaudine à Saint Marcel
DESCRIPTION:salle de l’ancienne poste. \nTous les 15 jours\, le mercredi à 17h à Saint Marcel
URL:https://languesdebourgogne.com/agenda/la-couee-de-la-glaudine-a-saint-marcel-5/
LOCATION:Saint Marcel\, Salle de l'ancienne poste\, Saint Marcel\, 71380\, France
CATEGORIES:Ateliers
ORGANIZER;CN="La Cou%C3%A9e d'la Glaudine":MAILTO:oliviergaudillat@yahoo.fr
END:VEVENT
BEGIN:VEVENT
DTSTART;TZID=Europe/Paris:20260408T170000
DTEND;TZID=Europe/Paris:20260408T183000
DTSTAMP:20260424T015310
CREATED:20260129T145213Z
LAST-MODIFIED:20260129T145213Z
UID:7078-1775667600-1775673000@languesdebourgogne.com
SUMMARY:La Couée de la Glaudine à Saint Marcel
DESCRIPTION:salle de l’ancienne poste. \nTous les 15 jours\, le mercredi à 17h à Saint Marcel
URL:https://languesdebourgogne.com/agenda/la-couee-de-la-glaudine-a-saint-marcel-4/
LOCATION:Saint Marcel\, Salle de l'ancienne poste\, Saint Marcel\, 71380\, France
CATEGORIES:Ateliers
ORGANIZER;CN="La Cou%C3%A9e d'la Glaudine":MAILTO:oliviergaudillat@yahoo.fr
END:VEVENT
BEGIN:VEVENT
DTSTART;TZID=Europe/Paris:20260408T143000
DTEND;TZID=Europe/Paris:20260408T163000
DTSTAMP:20260424T015310
CREATED:20260202T162918Z
LAST-MODIFIED:20260202T162918Z
UID:7104-1775658600-1775665800@languesdebourgogne.com
SUMMARY:Les cardzots du Tseu
DESCRIPTION:Atelier du Pays du Tseu
URL:https://languesdebourgogne.com/agenda/les-cardzots-du-tseu-3/
LOCATION:Suin\, Salle communale\, Suin\, 71220\, France
CATEGORIES:Ateliers
ORGANIZER;CN="Le Tseu%C2%A0%3A eun p%C3%A0ys%2C eune langue":MAILTO:andreauclair@wanadoo.fr 
END:VEVENT
BEGIN:VEVENT
DTSTART;TZID=Europe/Paris:20260328T140000
DTEND;TZID=Europe/Paris:20260328T170000
DTSTAMP:20260424T015310
CREATED:20251201T150109Z
LAST-MODIFIED:20251201T150109Z
UID:6598-1774706400-1774717200@languesdebourgogne.com
SUMMARY:Le patois raconté - à la Chapelle-Saint-Sauveur
DESCRIPTION:Un après-midi récréatif “le patois raconté”
URL:https://languesdebourgogne.com/agenda/le-patois-raconte-a-la-chapelle-saint-sauveur/
LOCATION:La Chapelle Saint-Sauveur\, La Chapelle-Saint-Sauveur\, 71310\, France
CATEGORIES:Animations
END:VEVENT
BEGIN:VEVENT
DTSTART;TZID=Europe/Paris:20260325T170000
DTEND;TZID=Europe/Paris:20260325T183000
DTSTAMP:20260424T015310
CREATED:20260129T145611Z
LAST-MODIFIED:20260129T145611Z
UID:7080-1774458000-1774463400@languesdebourgogne.com
SUMMARY:La Couée de la Glaudine de Saint Marcel
DESCRIPTION:salle de l’ancienne poste. \nTous les 15 jours\, le mercredi à 17h à Saint Marcel
URL:https://languesdebourgogne.com/agenda/la-couee-de-la-glaudine-de-saint-marcel-2/
LOCATION:Saint Marcel\, Salle de l'ancienne poste\, Saint Marcel\, 71380\, France
CATEGORIES:Ateliers
ORGANIZER;CN="La Cou%C3%A9e d'la Glaudine":MAILTO:oliviergaudillat@yahoo.fr
END:VEVENT
BEGIN:VEVENT
DTSTART;TZID=Europe/Paris:20260325T170000
DTEND;TZID=Europe/Paris:20260325T183000
DTSTAMP:20260424T015310
CREATED:20260129T145044Z
LAST-MODIFIED:20260129T145044Z
UID:7076-1774458000-1774463400@languesdebourgogne.com
SUMMARY:La Couée de la Glaudine à Saint Marcel
DESCRIPTION:salle de l’ancienne poste. \nTous les 15 jours\, le mercredi à 17h à Saint Marcel
URL:https://languesdebourgogne.com/agenda/la-couee-de-la-glaudine-a-saint-marcel-3/
LOCATION:Saint Marcel\, Salle de l'ancienne poste\, Saint Marcel\, 71380\, France
CATEGORIES:Ateliers
ORGANIZER;CN="La Cou%C3%A9e d'la Glaudine":MAILTO:oliviergaudillat@yahoo.fr
END:VEVENT
BEGIN:VEVENT
DTSTART;TZID=Europe/Paris:20260321T140000
DTEND;TZID=Europe/Paris:20260321T170000
DTSTAMP:20260424T015310
CREATED:20251211T114927Z
LAST-MODIFIED:20260129T151609Z
UID:6781-1774101600-1774112400@languesdebourgogne.com
SUMMARY:Atelier de Brazey-en-Plaine
DESCRIPTION:Chez Johan Bossu à Izeure – 06 51 38 76 53
URL:https://languesdebourgogne.com/agenda/ag-arhial-brazey-en-plaine/
LOCATION:Chez Johan Bossu\, 34 rue de Tarsul\, Izeure\, 21110
CATEGORIES:Ateliers
ORGANIZER;CN="Association de recherche historique et arch%C3%A9ologique locale de la r%C3%A9gion de Brazey-en-Plaine (ARHIAL)":MAILTO:arhial.brazey@hotmail.com
END:VEVENT
BEGIN:VEVENT
DTSTART;TZID=Europe/Paris:20260317T170000
DTEND;TZID=Europe/Paris:20260317T190000
DTSTAMP:20260424T015310
CREATED:20260121T094010Z
LAST-MODIFIED:20260121T094010Z
UID:7056-1773766800-1773774000@languesdebourgogne.com
SUMMARY:Atelier de la Chapelle Saint-Sauveur
DESCRIPTION:RDV à la salle des fêtes les mardis tous les 15 jours à 17h
URL:https://languesdebourgogne.com/agenda/atelier-de-la-chapelle-saint-sauveur-10/
LOCATION:La Chapelle Saint-Sauveur\, La Chapelle-Saint-Sauveur\, 71310\, France
CATEGORIES:Ateliers
END:VEVENT
BEGIN:VEVENT
DTSTART;TZID=Europe/Paris:20260316T200000
DTEND;TZID=Europe/Paris:20260316T223000
DTSTAMP:20260424T015310
CREATED:20260202T162713Z
LAST-MODIFIED:20260303T134133Z
UID:7100-1773691200-1773700200@languesdebourgogne.com
SUMMARY:Voillie à Meshy - Les Débeurdineries des Gôniots
DESCRIPTION:Sortie de l’Egarouillôt n°11
URL:https://languesdebourgogne.com/agenda/les-debeurdineries-des-goniots-4/
LOCATION:Messey-sur-Grosne\, Salle des fêtes\, 71390
CATEGORIES:Ateliers,Veillées
ATTACH;FMTTYPE=image/jpeg:https://languesdebourgogne.com/wp-content/uploads/2026/02/Messey.jpg
ORGANIZER;CN="Varennes Village Culture et Patrimoine":MAILTO:pplc.leger@orange.fr
END:VEVENT
BEGIN:VEVENT
DTSTART;TZID=Europe/Paris:20260311T180000
DTEND;TZID=Europe/Paris:20260311T200000
DTSTAMP:20260424T015310
CREATED:20260303T111019Z
LAST-MODIFIED:20260303T111046Z
UID:7172-1773252000-1773259200@languesdebourgogne.com
SUMMARY:Causons montcellien !
DESCRIPTION:Tous les deuxièmes mercredis du mois à 18h à la Volière !
URL:https://languesdebourgogne.com/agenda/causons-montcellien-3/
LOCATION:La Volière\, 12 rue des oiseaux\, Montceau-les-Mines\, Sélectionner un État :\, 71300\, France
CATEGORIES:Ateliers
ATTACH;FMTTYPE=image/jpeg:https://languesdebourgogne.com/wp-content/uploads/2026/03/affiche.jpg
END:VEVENT
BEGIN:VEVENT
DTSTART;TZID=Europe/Paris:20260311T170000
DTEND;TZID=Europe/Paris:20260311T183000
DTSTAMP:20260424T015310
CREATED:20260129T144927Z
LAST-MODIFIED:20260129T144927Z
UID:7074-1773248400-1773253800@languesdebourgogne.com
SUMMARY:La Couée de la Glaudine à Saint Marcel
DESCRIPTION:salle de l’ancienne poste. \nTous les 15 jours\, le mercredi à 17h à Saint Marcel
URL:https://languesdebourgogne.com/agenda/la-couee-de-la-glaudine-a-saint-marcel-2/
LOCATION:Saint Marcel\, Salle de l'ancienne poste\, Saint Marcel\, 71380\, France
CATEGORIES:Ateliers
ORGANIZER;CN="La Cou%C3%A9e d'la Glaudine":MAILTO:oliviergaudillat@yahoo.fr
END:VEVENT
BEGIN:VEVENT
DTSTART;TZID=Europe/Paris:20260311T143000
DTEND;TZID=Europe/Paris:20260311T163000
DTSTAMP:20260424T015310
CREATED:20260202T162814Z
LAST-MODIFIED:20260202T162814Z
UID:7102-1773239400-1773246600@languesdebourgogne.com
SUMMARY:Les cardzots du Tseu
DESCRIPTION:Atelier du Pays du Tseu
URL:https://languesdebourgogne.com/agenda/les-cardzots-du-tseu-2/
LOCATION:Suin\, Salle communale\, Suin\, 71220\, France
CATEGORIES:Ateliers
ORGANIZER;CN="Le Tseu%C2%A0%3A eun p%C3%A0ys%2C eune langue":MAILTO:andreauclair@wanadoo.fr 
END:VEVENT
BEGIN:VEVENT
DTSTART;TZID=Europe/Paris:20260303T170000
DTEND;TZID=Europe/Paris:20260303T190000
DTSTAMP:20260424T015310
CREATED:20260121T093918Z
LAST-MODIFIED:20260121T093918Z
UID:7054-1772557200-1772564400@languesdebourgogne.com
SUMMARY:Atelier de la Chapelle Saint-Sauveur
DESCRIPTION:RDV à la salle des fêtes les mardis tous les 15 jours à 17h
URL:https://languesdebourgogne.com/agenda/atelier-de-la-chapelle-saint-sauveur-7/
LOCATION:La Chapelle Saint-Sauveur\, La Chapelle-Saint-Sauveur\, 71310\, France
CATEGORIES:Ateliers
END:VEVENT
BEGIN:VEVENT
DTSTART;TZID=Europe/Paris:20260228T160000
DTEND;TZID=Europe/Paris:20260228T230000
DTSTAMP:20260424T015310
CREATED:20260129T134302Z
LAST-MODIFIED:20260129T134302Z
UID:7062-1772294400-1772319600@languesdebourgogne.com
SUMMARY:Fête des Reugnes à Sornay
DESCRIPTION:Programmation bientôt
URL:https://languesdebourgogne.com/agenda/fete-des-reugnes-a-sornay/
LOCATION:Local Mémoire de Sornay\, 277 rue des écoles\, Sornay\, 71500
CATEGORIES:Animations,Exposition,Spectacle,Veillées
ORGANIZER;CN="M%C3%A9moire de Sornay":MAILTO:memoiredesornay@gmail.com
END:VEVENT
BEGIN:VEVENT
DTSTART;TZID=Europe/Paris:20260225T170000
DTEND;TZID=Europe/Paris:20260225T183000
DTSTAMP:20260424T015310
CREATED:20260129T143914Z
LAST-MODIFIED:20260129T143914Z
UID:7072-1772038800-1772044200@languesdebourgogne.com
SUMMARY:La Couée de la Glaudine à Saint Marcel
DESCRIPTION:salle de l’ancienne poste. \nTous les 15 jours\, le mercredi à 17h à Saint Marcel
URL:https://languesdebourgogne.com/agenda/la-couee-de-la-glaudine-a-saint-marcel/
LOCATION:Saint Marcel\, Salle de l'ancienne poste\, Saint Marcel\, 71380\, France
CATEGORIES:Ateliers
ORGANIZER;CN="La Cou%C3%A9e d'la Glaudine":MAILTO:oliviergaudillat@yahoo.fr
END:VEVENT
BEGIN:VEVENT
DTSTART;TZID=Europe/Paris:20260223T140000
DTEND;TZID=Europe/Paris:20260223T163000
DTSTAMP:20260424T015310
CREATED:20260129T140530Z
LAST-MODIFIED:20260129T140530Z
UID:7064-1771855200-1771864200@languesdebourgogne.com
SUMMARY:Atelier de Sornay
DESCRIPTION:
URL:https://languesdebourgogne.com/agenda/atelier-de-sornay/
LOCATION:Local Mémoire de Sornay\, 277 rue des écoles\, Sornay\, 71500
CATEGORIES:Ateliers
ORGANIZER;CN="M%C3%A9moire de Sornay":MAILTO:memoiredesornay@gmail.com
END:VEVENT
BEGIN:VEVENT
DTSTART;TZID=Europe/Paris:20260218T143000
DTEND;TZID=Europe/Paris:20260218T163000
DTSTAMP:20260424T015310
CREATED:20260202T162335Z
LAST-MODIFIED:20260202T162335Z
UID:7096-1771425000-1771432200@languesdebourgogne.com
SUMMARY:Les cardzots du Tseu
DESCRIPTION:Atelier du Pays du Tseu
URL:https://languesdebourgogne.com/agenda/les-cardzots-du-tseu/
LOCATION:Suin\, Salle communale\, Suin\, 71220\, France
CATEGORIES:Ateliers
ORGANIZER;CN="Le Tseu%C2%A0%3A eun p%C3%A0ys%2C eune langue":MAILTO:andreauclair@wanadoo.fr 
END:VEVENT
BEGIN:VEVENT
DTSTART;TZID=Europe/Paris:20260217T170000
DTEND;TZID=Europe/Paris:20260217T190000
DTSTAMP:20260424T015310
CREATED:20260121T093732Z
LAST-MODIFIED:20260121T093732Z
UID:7052-1771347600-1771354800@languesdebourgogne.com
SUMMARY:Atelier de la Chapelle Saint-Sauveur
DESCRIPTION:RDV à la salle des fêtes les mardis tous les 15 jours à 17h
URL:https://languesdebourgogne.com/agenda/atelier-de-la-chapelle-saint-sauveur-6/
CATEGORIES:Ateliers
END:VEVENT
BEGIN:VEVENT
DTSTART;TZID=Europe/Paris:20260214T140000
DTEND;TZID=Europe/Paris:20260214T170000
DTSTAMP:20260424T015310
CREATED:20251211T115209Z
LAST-MODIFIED:20251211T115209Z
UID:6785-1771077600-1771088400@languesdebourgogne.com
SUMMARY:AG - ARHIAL à Brazey-en-Plaine
DESCRIPTION:Rdv au Château Magnin à Brazey-en-Plaine
URL:https://languesdebourgogne.com/agenda/ag-arhial-a-brazey-en-plaine/
LOCATION:Chateau Magnin Brazey-en-Plaine\, Rue du Maréchal de Lattre de Tassigny\, Brazey-en-Plaine\, 21470\, France
ORGANIZER;CN="Association de recherche historique et arch%C3%A9ologique locale de la r%C3%A9gion de Brazey-en-Plaine (ARHIAL)":MAILTO:arhial.brazey@hotmail.com
END:VEVENT
BEGIN:VEVENT
DTSTART;TZID=Europe/Paris:20260211T170000
DTEND;TZID=Europe/Paris:20260211T190000
DTSTAMP:20260424T015310
CREATED:20260202T162525Z
LAST-MODIFIED:20260202T162525Z
UID:7098-1770829200-1770836400@languesdebourgogne.com
SUMMARY:Causons montcellien
DESCRIPTION:Atelier à la Volière à Montceau-les Mines
URL:https://languesdebourgogne.com/agenda/causons-montcellien-2/
LOCATION:La Volière\, 12 rue des oiseaux\, Montceau-les-Mines\, Sélectionner un État :\, 71300\, France
CATEGORIES:Ateliers
END:VEVENT
BEGIN:VEVENT
DTSTART;TZID=Europe/Paris:20260211T170000
DTEND;TZID=Europe/Paris:20260211T183000
DTSTAMP:20260424T015310
CREATED:20260129T143821Z
LAST-MODIFIED:20260129T143821Z
UID:7070-1770829200-1770834600@languesdebourgogne.com
SUMMARY:La Couée de la Glaudine de Saint Marcel
DESCRIPTION:salle de l’ancienne poste. \nTous les 15 jours\, le mercredi à 17h à Saint Marcel
URL:https://languesdebourgogne.com/agenda/la-couee-de-la-glaudine-de-saint-marcel/
LOCATION:Saint Marcel\, Salle de l'ancienne poste\, Saint Marcel\, 71380\, France
CATEGORIES:Ateliers
ORGANIZER;CN="La Cou%C3%A9e d'la Glaudine":MAILTO:oliviergaudillat@yahoo.fr
END:VEVENT
BEGIN:VEVENT
DTSTART;TZID=Europe/Paris:20260211T160000
DTEND;TZID=Europe/Paris:20260211T180000
DTSTAMP:20260424T015310
CREATED:20260115T170502Z
LAST-MODIFIED:20260129T162847Z
UID:7046-1770825600-1770832800@languesdebourgogne.com
SUMMARY:Les Raibâcheries du Bôchot à  Chailly-sur-Armançon
DESCRIPTION:l’atelier de langues de l’Auxois de la MPOB – « ai lai Chaume Beuriée » – Vêtement d’hier et d’aujourd’hui
URL:https://languesdebourgogne.com/agenda/les-raibacheries-du-bochot-a-chailly-sur-armancon/
LOCATION:Chailly-sur-Armaçon
CATEGORIES:Ateliers
ORGANIZER;CN="Maison du Patrimoine Oral de Bourgogne":MAILTO:contact@mpo-bourgogne.org
END:VEVENT
BEGIN:VEVENT
DTSTART;TZID=Europe/Paris:20260204T180000
DTEND;TZID=Europe/Paris:20260204T200000
DTSTAMP:20260424T015310
CREATED:20260119T134422Z
LAST-MODIFIED:20260119T134422Z
UID:7048-1770228000-1770235200@languesdebourgogne.com
SUMMARY:l’Henri Vincenot\, sôs tôtes les couteûres - Archives départementales de Dijon
DESCRIPTION:Conférence animée par Annie Cèbe et les Raibâcherie du Bôchot. \n            Le méqueurdi 4 de feuvré\, ai 6 heûre du souair\, ai Dijon\, ées Archives Départementales de lai Côte d’Or\, 8 rue Jeannin
URL:https://languesdebourgogne.com/agenda/lhenri-vincenot-sos-totes-les-couteures-archives-departementales-de-dijon/
LOCATION:Archives Départementales de Dijon\, 8 rue Jeannin\, Dijon\, 21000
CATEGORIES:Ateliers
ORGANIZER;CN="Les Raibacheries du Bochot - Maison du Patrimoine Oral de Bourgogne":MAILTO:jl.debard@orange.fr
END:VEVENT
BEGIN:VEVENT
DTSTART;TZID=Europe/Paris:20260203T170000
DTEND;TZID=Europe/Paris:20260203T190000
DTSTAMP:20260424T015310
CREATED:20260121T093641Z
LAST-MODIFIED:20260121T093641Z
UID:7050-1770138000-1770145200@languesdebourgogne.com
SUMMARY:Atelier de la Chapelle Saint-Sauveur
DESCRIPTION:RDV à la salle des fêtes les mardis tous les 15 jours à 17h
URL:https://languesdebourgogne.com/agenda/atelier-de-la-chapelle-saint-sauveur-5/
LOCATION:La Chapelle Saint-Sauveur\, La Chapelle-Saint-Sauveur\, 71310\, France
CATEGORIES:Ateliers
END:VEVENT
BEGIN:VEVENT
DTSTART;TZID=Europe/Paris:20260202T140000
DTEND;TZID=Europe/Paris:20260202T160000
DTSTAMP:20260424T015310
CREATED:20260129T140815Z
LAST-MODIFIED:20260129T140815Z
UID:7067-1770040800-1770048000@languesdebourgogne.com
SUMMARY:Atelier de Sornay
DESCRIPTION:
URL:https://languesdebourgogne.com/agenda/atelier-de-sornay-2/
LOCATION:Local Mémoire de Sornay\, 277 rue des écoles\, Sornay\, 71500
CATEGORIES:Ateliers
ORGANIZER;CN="M%C3%A9moire de Sornay":MAILTO:memoiredesornay@gmail.com
END:VEVENT
END:VCALENDAR